BEGIN:VCALENDAR
VERSION:2.0
PRODID:-//Personal Insolvency Professionals Association - ECPv6.3.6//NONSGML v1.0//EN
CALSCALE:GREGORIAN
METHOD:PUBLISH
X-ORIGINAL-URL:https://www.pipa.net.au
X-WR-CALDESC:Events for Personal Insolvency Professionals Association
REFRESH-INTERVAL;VALUE=DURATION:PT1H
X-Robots-Tag:noindex
X-PUBLISHED-TTL:PT1H
BEGIN:VTIMEZONE
TZID:Australia/Melbourne
BEGIN:STANDARD
TZOFFSETFROM:+1100
TZOFFSETTO:+1000
TZNAME:AEST
DTSTART:20210403T160000
END:STANDARD
BEGIN:DAYLIGHT
TZOFFSETFROM:+1000
TZOFFSETTO:+1100
TZNAME:AEDT
DTSTART:20211002T160000
END:DAYLIGHT
END:VTIMEZONE
BEGIN:VEVENT
DTSTART;VALUE=DATE:20210615
DTEND;VALUE=DATE:20210616
DTSTAMP:20260421T220108
CREATED:20210511T002244Z
LAST-MODIFIED:20210511T014647Z
UID:9507-1623715200-1623801599@www.pipa.net.au
SUMMARY:ARITA - QLD Division Conference & Dinner
DESCRIPTION:The half-day conference is designed for senior practitioners to stay up to date with developments\, as well as sharing industry best practice\, followed by networking opportunities at the Dinner with pre-drinks and a three course meal. \nConference sessions\nTo be announced soon. \nEvent details\nDate:       Tuesday\, 15 June 2021\nVenue:    W Brisbane – 81 North Quay\, Brisbane\, Queensland 4000. \nRates to attend\n\n\n\n All prices include GST\n      Member       \n  Non-member\n\n\n Conference\n         $232\n         $381\n\n\n Dinner ticket\n  $258\n\n\n Dinner Guest Ticket\n  $258\n\n\n Table of 10\n $2\,369\n\n\n\nCPE\nUp to 3 CPE hours (TBC once full program finalised) \nCOVID-safe and booking with confidence\nWe know that the world has changed and there is always going to be uncertainty around events in the age of a pandemic\, so here is our approach to making this work: \n\nThe event will be fully COVID-safe and compliant above and beyond any basic government health requirements to do what we reasonably can to protect your health and safety and that of all attendees. That will include appropriate social distancing and other measures.\nCOVID cancellation: if the event is cancelled or has to be moved due to COVID issues\, we will offer you a full refund.\nIf you’re unwell we will offer a cancel-on-the-day refund. It’s in everyone’s interest to ensure anyone who feels unwell stays away from events\, so we will offer you a full refund if you are showing any COVID-like symptoms with no questions asked.
URL:https://www.pipa.net.au/event/arita-qld-division-conference-dinner/
LOCATION:W Brisbane\, 81 North Quay\, Brisbane\, QLD\, 4000\, Australia
CATEGORIES:Conference & Dinner
ATTACH;FMTTYPE=image/jpeg:https://www.pipa.net.au/wp-content/uploads/2021/05/ARITA.jpg
END:VEVENT
BEGIN:VEVENT
DTSTART;TZID=Australia/Melbourne:20210607T103000
DTEND;TZID=Australia/Melbourne:20210607T174000
DTSTAMP:20260421T220108
CREATED:20210511T001854Z
LAST-MODIFIED:20210602T044213Z
UID:9443-1623061800-1623087600@www.pipa.net.au
SUMMARY:ARITA - NSW/ACT Division Conference & Dinner
DESCRIPTION:NSW/ACT Division Conference & Dinner\nThe full-day conference is designed for senior practitioners to stay up to date with developments\, as well as sharing industry best practice\, followed by networking opportunities at the Dinner with pre-drinks and a three course meal. \nConference sessions\nTo be announced soon. \nEvent details\nDate:       Monday\, 7 June 2021\nVenue:    Hyatt Regency Sydney\, 161 Sussex Street\, Sydney NSW 2000\nTimings: Registration from 10:00 am\nConference from 10:30 am – 5:40 pm\nPre-dinner drinks from 5:40 pm\nDinner (three course sit down meal) from 6:50 pm\n\nNetworking dinner: Book an individual ticket or a table of 10 and invite clients at the popular networking dinner. \nRates to attend\n\n\n\n All prices include GST\n       Member      \n  Non-member\n\n\n Conference\n          $555\n         $758\n\n\n Dinner ticket\n$258\n\n\n Dinner Guest Ticket\n$258\n\n\n Table of 10\n$2\,369\n\n\n\nCPE\nUp to 6 CPE hours (TBC once full program finalised) \n\nCOVID-safe and booking with confidence\nWe know that the world has changed and there is always going to be uncertainty around events in the age of a pandemic\, so here is our approach to making this work: \n\nThe event will be fully COVID-safe and compliant above and beyond any basic government health requirements to do what we reasonably can to protect your health and safety and that of all attendees. That will include appropriate social distancing and other measures.\nCOVID cancellation: if the event is cancelled or has to be moved due to COVID issues\, we will offer you a full refund.\nIf you’re unwell we will offer a cancel-on-the-day refund. It’s in everyone’s interest to ensure anyone who feels unwell stays away from events\, so we will offer you a full refund if you are showing any COVID-like symptoms with no questions asked.
URL:https://www.pipa.net.au/event/arita-nsw-act-division-conference-dinner/
LOCATION:Hyatt Regency Sydney\, 161 Sussex Street\, Sydney\, NSW\, 2000\, Australia
CATEGORIES:Conference & Dinner
ATTACH;FMTTYPE=image/jpeg:https://www.pipa.net.au/wp-content/uploads/2021/05/ARITA.jpg
END:VEVENT
END:VCALENDAR